BEGIN:VCALENDAR
VERSION:2.0
PRODID:-//Fifty Upstate - ECPv5.1.2.1//NONSGML v1.0//EN
CALSCALE:GREGORIAN
METHOD:PUBLISH
X-WR-CALNAME:Fifty Upstate
X-ORIGINAL-URL:https://fiftyupstate.org
X-WR-CALDESC:Events for Fifty Upstate
BEGIN:VTIMEZONE
TZID:America/New_York
BEGIN:DAYLIGHT
TZOFFSETFROM:-0500
TZOFFSETTO:-0400
TZNAME:EDT
DTSTART:20200308T070000
END:DAYLIGHT
BEGIN:STANDARD
TZOFFSETFROM:-0400
TZOFFSETTO:-0500
TZNAME:EST
DTSTART:20201101T060000
END:STANDARD
END:VTIMEZONE
BEGIN:VEVENT
DTSTART;TZID=America/New_York:20200120T100000
DTEND;TZID=America/New_York:20200120T120000
DTSTAMP:20260425T124630
CREATED:20200113T143152Z
LAST-MODIFIED:20200113T143152Z
UID:1754-1579514400-1579521600@fiftyupstate.org
SUMMARY:Biscuits and Bingo
DESCRIPTION:Come on out and join in on all the fun! Chicken biscuits and refreshments will be provided. \n
URL:https://fiftyupstate.org/event/biscuits-and-bingo/
LOCATION:Partners in Primary Care\, 101 Orchard Park Dr\, Greenville
END:VEVENT
END:VCALENDAR