BEGIN:VCALENDAR
VERSION:2.0
PRODID:-//Fifty Upstate - ECPv5.1.2.1//NONSGML v1.0//EN
CALSCALE:GREGORIAN
METHOD:PUBLISH
X-WR-CALNAME:Fifty Upstate
X-ORIGINAL-URL:https://fiftyupstate.org
X-WR-CALDESC:Events for Fifty Upstate
BEGIN:VTIMEZONE
TZID:America/New_York
BEGIN:DAYLIGHT
TZOFFSETFROM:-0500
TZOFFSETTO:-0400
TZNAME:EDT
DTSTART:20190310T070000
END:DAYLIGHT
BEGIN:STANDARD
TZOFFSETFROM:-0400
TZOFFSETTO:-0500
TZNAME:EST
DTSTART:20191103T060000
END:STANDARD
END:VTIMEZONE
BEGIN:VEVENT
DTSTART;TZID=America/New_York:20191130T110000
DTEND;TZID=America/New_York:20191130T170000
DTSTAMP:20260425T230539
CREATED:20191115T184221Z
LAST-MODIFIED:20191115T184221Z
UID:1693-1575111600-1575133200@fiftyupstate.org
SUMMARY:Chapman Cultural Center- 2019 Holiday Craft Market
DESCRIPTION:Local artists and fine craftspeople will fill the Chapman Cultural Center campus with their handmade items on Saturday\, November 30th! It’s the perfect time to come listen to some holiday music and grab those Holiday item\, all while supporting local artisans. Whether you are looking for stocking stuffers and gifts for the people on your list or want to pick up something for yourself\, we have hundreds of options to choose from. \n
URL:https://fiftyupstate.org/event/chapman-cultural-center-2019-holiday-craft-market/
END:VEVENT
END:VCALENDAR